BEGIN:VCALENDAR
VERSION:2.0
PRODID:-//Makhaira Group - ECPv6.15.13.1//NONSGML v1.0//EN
CALSCALE:GREGORIAN
METHOD:PUBLISH
X-WR-CALNAME:Makhaira Group
X-ORIGINAL-URL:https://makhairagroup.com
X-WR-CALDESC:Events for Makhaira Group
REFRESH-INTERVAL;VALUE=DURATION:PT1H
X-Robots-Tag:noindex
X-PUBLISHED-TTL:PT1H
BEGIN:VTIMEZONE
TZID:America/Denver
BEGIN:DAYLIGHT
TZOFFSETFROM:-0700
TZOFFSETTO:-0600
TZNAME:MDT
DTSTART:20250309T090000
END:DAYLIGHT
BEGIN:STANDARD
TZOFFSETFROM:-0600
TZOFFSETTO:-0700
TZNAME:MST
DTSTART:20251102T080000
END:STANDARD
BEGIN:DAYLIGHT
TZOFFSETFROM:-0700
TZOFFSETTO:-0600
TZNAME:MDT
DTSTART:20260308T090000
END:DAYLIGHT
BEGIN:STANDARD
TZOFFSETFROM:-0600
TZOFFSETTO:-0700
TZNAME:MST
DTSTART:20261101T080000
END:STANDARD
BEGIN:DAYLIGHT
TZOFFSETFROM:-0700
TZOFFSETTO:-0600
TZNAME:MDT
DTSTART:20270314T090000
END:DAYLIGHT
BEGIN:STANDARD
TZOFFSETFROM:-0600
TZOFFSETTO:-0700
TZNAME:MST
DTSTART:20271107T080000
END:STANDARD
END:VTIMEZONE
BEGIN:VEVENT
DTSTART;TZID=America/Denver:20260418T160000
DTEND;TZID=America/Denver:20260418T183000
DTSTAMP:20260419T194010
CREATED:20260202T214617Z
LAST-MODIFIED:20260409T164100Z
UID:10001921-1776528000-1776537000@makhairagroup.com
SUMMARY:Concealed Handgun Permit- Renewal
DESCRIPTION:This renewal course is designed for individuals who currently hold a valid Colorado Concealed Handgun Permit and need to renew it in accordance with state requirements. The class provides a comprehensive review of firearms safety\, relevant Colorado gun laws\, and the responsibilities of concealed carry permit holders. It also covers recent legal updates and best practices for safely and responsibly carrying a concealed handgun in everyday situations. \nTopics Covered\n\nLegal use of deadly force in Colorado\nLocal\, state\, federal laws and reciprocity\nStudents will take part in both a written exam and a shooting proficiency.\n\nRequired Equipment\n\nQuality\, working\, serviceable pistol.  Please bring your pistol to the course unloaded and in a case. Rentals will be available through Liberty Firearms Institute for an additional fee.\n50 rounds of ammunition (Factory produced ammo only.  No home reloads allowed due to insurance.)\nEye and ear protection\nBaseball style hat to keep brass from getting behind your eye protection.\nPersonal food – Bottled water will be provided and you are welcome to eat during the classroom portion.\nAppropriate clothing (i.e. closed-toe shoes\, pants\, long sleeve shirt without low neckline).\n\nLocation\nLiberty Firearms Institute\n4990 Ronald Reagan Blvd\nJohnstown\, CO 80534
URL:https://makhairagroup.com/class/concealed-handgun-permit-renewal-45/
LOCATION:Liberty Firearms Institute\, 4990 Ronald Reagan Blvd\, Johnstown\, CO\, 80534\, United States
ATTACH;FMTTYPE=image/png:https://makhairagroup.com/wp-content/uploads/2025/08/Class-Full-Waitlist.png
GEO:40.4032476;-104.9844125
X-APPLE-STRUCTURED-LOCATION;VALUE=URI;X-ADDRESS=Liberty Firearms Institute 4990 Ronald Reagan Blvd Johnstown CO 80534 United States;X-APPLE-RADIUS=500;X-TITLE=4990 Ronald Reagan Blvd:geo:-104.9844125,40.4032476
END:VEVENT
BEGIN:VEVENT
DTSTART;TZID=America/Denver:20260419T130000
DTEND;TZID=America/Denver:20260419T170000
DTSTAMP:20260419T194010
CREATED:20260206T175731Z
LAST-MODIFIED:20260206T175731Z
UID:10001937-1776603600-1776618000@makhairagroup.com
SUMMARY:R120: Tactical Rifle 120
DESCRIPTION:Tactical Rifle 120 is a range only session building on the fundamentals of marksmanship while introducing advanced skills and weapon manipulation. The focus will be on improvement of accuracy\, rate of fire\, and shoulder transition. This session will also include safe gun handling\, advanced malfunction clearances and maintain accuracy under simulated stress. \nThe class is taught by Makhaira Group certified NRA instructors in a safe and professional classroom and range. \nTopics Covered\n\nTactical carry and employment\nMethodology of shooting the tactical rifle\nShoulder transitions\nTactical reloading\nMarksmanship and accuracy improvement\nMalfunction clearance (Stoppage drills)\nTactical gun-handling\nSimulated stress fire\n\nRequired Equipment\n\nGood working\, serviceable AR-15/M4 with installed shoulder stock\nAdjustable tactical sling\nZeroed sights or optics\n300 rounds of rifle ammunition (Factory\, non-steel core ammo only for indoor courses. Please check your ammo if there is any question. Additionally\, no home reloads are allowed due to insurance.)\n3 magazines minimum and method of carry\nEye protection (clear or yellow for indoor courses)\nEar protection (electronic preferred)\nBaseball style hat (to keep brass from getting behind eye pro)\nAppropriate clothing (i.e. closed-toe shoes\, pants\, long sleeve shirt without low neckline)\n\n  \nLocation \nLiberty Firearms Institute\n4990 Ronald Reagan Blvd\nJohnstown\, CO
URL:https://makhairagroup.com/class/r120-tactical-rifle-120-8/
LOCATION:Liberty Firearms Institute\, 4990 Ronald Reagan Blvd\, Johnstown\, CO\, 80534\, United States
ATTACH;FMTTYPE=image/png:https://makhairagroup.com/wp-content/uploads/2025/05/TR1-3-1.png
GEO:40.4032476;-104.9844125
X-APPLE-STRUCTURED-LOCATION;VALUE=URI;X-ADDRESS=Liberty Firearms Institute 4990 Ronald Reagan Blvd Johnstown CO 80534 United States;X-APPLE-RADIUS=500;X-TITLE=4990 Ronald Reagan Blvd:geo:-104.9844125,40.4032476
END:VEVENT
END:VCALENDAR